BEGIN:VCALENDAR
VERSION:2.0
PRODID:-//Business of Design ® - ECPv6.15.18//NONSGML v1.0//EN
CALSCALE:GREGORIAN
METHOD:PUBLISH
X-WR-CALNAME:Business of Design ®
X-ORIGINAL-URL:https://businessofdesign.com
X-WR-CALDESC:Events for Business of Design ®
REFRESH-INTERVAL;VALUE=DURATION:PT1H
X-Robots-Tag:noindex
X-PUBLISHED-TTL:PT1H
BEGIN:VTIMEZONE
TZID:America/Toronto
BEGIN:DAYLIGHT
TZOFFSETFROM:-0500
TZOFFSETTO:-0400
TZNAME:EDT
DTSTART:20180311T070000
END:DAYLIGHT
BEGIN:STANDARD
TZOFFSETFROM:-0400
TZOFFSETTO:-0500
TZNAME:EST
DTSTART:20181104T060000
END:STANDARD
BEGIN:DAYLIGHT
TZOFFSETFROM:-0500
TZOFFSETTO:-0400
TZNAME:EDT
DTSTART:20190310T070000
END:DAYLIGHT
BEGIN:STANDARD
TZOFFSETFROM:-0400
TZOFFSETTO:-0500
TZNAME:EST
DTSTART:20191103T060000
END:STANDARD
BEGIN:DAYLIGHT
TZOFFSETFROM:-0500
TZOFFSETTO:-0400
TZNAME:EDT
DTSTART:20200308T070000
END:DAYLIGHT
BEGIN:STANDARD
TZOFFSETFROM:-0400
TZOFFSETTO:-0500
TZNAME:EST
DTSTART:20201101T060000
END:STANDARD
BEGIN:DAYLIGHT
TZOFFSETFROM:-0500
TZOFFSETTO:-0400
TZNAME:EDT
DTSTART:20210314T070000
END:DAYLIGHT
BEGIN:STANDARD
TZOFFSETFROM:-0400
TZOFFSETTO:-0500
TZNAME:EST
DTSTART:20211107T060000
END:STANDARD
BEGIN:DAYLIGHT
TZOFFSETFROM:-0500
TZOFFSETTO:-0400
TZNAME:EDT
DTSTART:20220313T070000
END:DAYLIGHT
BEGIN:STANDARD
TZOFFSETFROM:-0400
TZOFFSETTO:-0500
TZNAME:EST
DTSTART:20221106T060000
END:STANDARD
END:VTIMEZONE
BEGIN:VEVENT
DTSTART;TZID=America/Toronto:20210818T130000
DTEND;TZID=America/Toronto:20210818T140000
DTSTAMP:20260422T070337
CREATED:20210513T190045Z
LAST-MODIFIED:20210818T120359Z
UID:105125-1629291600-1629295200@businessofdesign.com
SUMMARY:BOD™ LIVE | Let's Talk Contracts
DESCRIPTION:Let’s talk about your contract. This conversation promises to be lively. If you’re using the BOD™ Hourly Fee and Flat Fee contracts\, we hope you’ll step in and offer support and guidance to your fellows. Regardless\, ask your questions and get answers! \nBe ready to offer experience\, expertise and support to your fellow members.  \nIf you’re serious about transforming your business by implementing the systems and procedures you learn about through Business of Design™\, our monthly BOD™ Live meetings will help keep you motivated\, accountable\, and in good company.  \nJoin us for this live member meeting to help fast track the process and address your most pressing questions. \nYou are not alone. BOD™ Live meetings are therapy for your business and your life! \n  \n\n\nTO PARTICIPATE LIVE \n\nMark your calendar for August 18th at 1 pm EST / 10 am PST.\nWatch your inbox for email reminders.\nSign into your Member Dashboard and click on JOIN BOD™ LIVE.\n\n  \nWATCH THE RECORDING \nNot able to join us live? 🙁 \nCatch up on what you missed. The recording will be available for a limited time in the Member Dashboard following the BOD™ LIVE meeting\, then archived in the Video Library. \n  \nAbout BOD™ LIVE\nMeet the superstars of BOD™—members\, just like you. Hear first hand what works and what doesn’t. Success strategies\, targeted solutions and motivation. \nConnect with your peers at monthly BOD™ LIVE meetings where you’re in the spotlight. \nTo participate in BOD™ LIVE | Virtual Member Only Meetings\, please join BOD™ Membership. \n 
URL:https://businessofdesign.com/event/bod-live-lets-talk-contracts/
CATEGORIES:BOD Live Meetings
ATTACH;FMTTYPE=image/png:https://businessofdesign.com/wp-content/uploads/2021/05/Screen-Shot-2021-01-13-at-1.27.58-PM.png
END:VEVENT
BEGIN:VEVENT
DTSTART;TZID=America/Toronto:20210721T210000
DTEND;TZID=America/Toronto:20210721T220000
DTSTAMP:20260422T070337
CREATED:20210513T184437Z
LAST-MODIFIED:20210818T120359Z
UID:105121-1626901200-1626904800@businessofdesign.com
SUMMARY:BOD™ LIVE | Back to Basics with BOD™ 15
DESCRIPTION:Let’s get back to basics and talk about the BOD™ 15. This topic is not just for new BOD™ Members\, everyone could use a refresher from time to time. Come prepared with your questions\, and be ready to offer experience\, expertise and support to your fellow members.  \nIf you’re serious about transforming your business by implementing the systems and procedures you learn about through Business of Design™\, our monthly BOD™ Live meetings will help keep you motivated\, accountable\, and in good company.  \nJoin us for this live member meeting to help fast track the process and address your most pressing questions. \nYou are not alone. BOD™ Live meetings are therapy for your business and your life! \n  \n\n\nTO PARTICIPATE LIVE \n\nMark your calendar for July 21st at 9 pm EST / 6 pm PST.\nWatch your inbox for email reminders.\nSign into your Member Dashboard and click on JOIN BOD™ LIVE.\n\n  \nWATCH THE RECORDING \nNot able to join us live? 🙁 \nCatch up on what you missed. The recording will be available for a limited time in the Member Dashboard following the BOD™ LIVE meeting\, then archived in the Video Library. \n  \nAbout BOD™ LIVE\nMeet the superstars of BOD™—members\, just like you. Hear first hand what works and what doesn’t. Success strategies\, targeted solutions and motivation. \nConnect with your peers at monthly BOD™ LIVE meetings where you’re in the spotlight. \nTo participate in BOD™ LIVE | Virtual Member Only Meetings\, please join BOD™ Membership. \n 
URL:https://businessofdesign.com/event/bod-live-july-2021/
CATEGORIES:BOD Live Meetings
ATTACH;FMTTYPE=image/jpeg:https://businessofdesign.com/wp-content/uploads/2021/05/WhatsApp-Image-2021-05-12-at-2.41.23-PM-1.jpeg
END:VEVENT
BEGIN:VEVENT
DTSTART;TZID=America/Toronto:20210616T130000
DTEND;TZID=America/Toronto:20210616T140000
DTSTAMP:20260422T070337
CREATED:20210412T171131Z
LAST-MODIFIED:20210818T120359Z
UID:104333-1623848400-1623852000@businessofdesign.com
SUMMARY:BOD™ LIVE | Book Club | Profit First
DESCRIPTION:At this month’s book club\, we are joined by entrepreneur and author\, Mike Michalowicz. Mike is the creator of Profit First\, which is used by hundreds of thousands of companies across the globe to drive profit. Mike has devoted his life to the research and delivery of innovative\, impactful entrepreneurial strategies to you. \nYou do not have to buy the book to participate. BOD™ Live events are included with your membership. \n \n  \nTO PARTICIPATE LIVE \n\nMark your calendar for June 16th at 1pm EST.\nWatch your inbox for email reminders.\nSign into your Member Dashboard and click on JOIN BOD™ LIVE.\n\n  \nWATCH THE RECORDING \nNot able to join us live? 🙁 \nThe recording will be available for a limited time following the BOD™ LIVE meeting. Click on BOD™ Live in the Member Dashboard menu to see what you missed. \n  \nAbout BOD™ LIVE\nMeet the superstars of BOD™—members\, just like you. Hear first hand what works and what doesn’t. Success strategies\, targeted solutions and motivation. \nConnect with your peers at monthly BOD™ LIVE meetings where you’re in the spotlight. \nTo participate in BOD™ LIVE | Virtual Member Only Meetings\, please join BOD™ Membership. \n 
URL:https://businessofdesign.com/event/bod-live-book-club-profit-first/
CATEGORIES:BOD Live Meetings
ATTACH;FMTTYPE=image/jpeg:https://businessofdesign.com/wp-content/uploads/2021/04/110120-MichM-059_Fotor.jpg
END:VEVENT
BEGIN:VEVENT
DTSTART;TZID=America/Toronto:20210512T130000
DTEND;TZID=America/Toronto:20210512T140000
DTSTAMP:20260422T070337
CREATED:20210326T152841Z
LAST-MODIFIED:20210818T120359Z
UID:103921-1620824400-1620828000@businessofdesign.com
SUMMARY:BOD™ LIVE | Group Coaching
DESCRIPTION:Back by popular demand\, we’ll be doing an open group coaching session in May. Come prepared with your questions\, and ready to offer experience\, expertise and support to your fellow members.  \nIf you’re serious about transforming your business by implementing the systems and procedures you learn about through Business of Design™\, our monthly BOD™ Live meetings will help keep you motivated\, accountable\, and in good company.  \nJoin us for this group coaching session to help fast track the process and address your most pressing questions. \nYou are not alone. BOD™ Live meetings are therapy for your business and your life! \n  \n\n\nTO PARTICIPATE LIVE \n\nMark your calendar for May 12th at 1pm EST / 10am PST.\nWatch your inbox for email reminders.\nSign into your Member Dashboard and click on JOIN BOD™ LIVE.\n\n  \nWATCH THE RECORDING \nNot able to join us live? 🙁 \nCatch up on what you missed. The recording will be available for a limited time in the Member Dashboard following the BOD™ LIVE meeting\, then archived in the Video Library. \n  \nAbout BOD™ LIVE\nMeet the superstars of BOD™—members\, just like you. Hear first hand what works and what doesn’t. Success strategies\, targeted solutions and motivation. \nConnect with your peers at monthly BOD™ LIVE meetings where you’re in the spotlight. \nTo participate in BOD™ LIVE | Virtual Member Only Meetings\, please join BOD™ Membership. \n 
URL:https://businessofdesign.com/event/bod-live-may-2021/
CATEGORIES:BOD Live Meetings
ATTACH;FMTTYPE=image/jpeg:https://businessofdesign.com/wp-content/uploads/2015/10/group-coaching.jpg
END:VEVENT
BEGIN:VEVENT
DTSTART;TZID=America/Toronto:20210414T210000
DTEND;TZID=America/Toronto:20210414T220000
DTSTAMP:20260422T070337
CREATED:20210225T145500Z
LAST-MODIFIED:20210818T120359Z
UID:103099-1618434000-1618437600@businessofdesign.com
SUMMARY:BOD™ LIVE | Your Dream Team
DESCRIPTION:With multiple projects on the go and too few hours in the day\, you may have found yourself dreaming of that first hire. Or\, perhaps you’ve hired before and it didn’t go as planned. 🤦‍♀️ \n\n\n\nThis month BOD™ member and interior designer Laura Martin Bovard answers the question: Is it possible to build a dream team and keep your sanity? \n\nLaura and two of her long-time staff tell us what it takes to create a team dynamic that allows each person to thrive. \n \nMeeting the dream team | Laura Martin Bovard (centre) with staff members\, Darshan (left) and Hannah (right). \n\n\n  \nTO PARTICIPATE LIVE \n\nMark your calendar for April 14th at 9pm EST / 6pm PST and April 15th at 1pm AEST / 10am AWST.\nWatch your inbox for email reminders.\nSign into your Member Dashboard and click on JOIN BOD™ LIVE.\n\n  \nWATCH THE RECORDING \nNot able to join us live? 🙁 \nCatch up on what you missed. The recording will be available for a limited time in the Member Dashboard following the BOD™ LIVE meeting\, then archived in the Video Library. \n  \nAbout BOD™ LIVE\nMeet the superstars of BOD™—members\, just like you. Hear first hand what works and what doesn’t. Success strategies\, targeted solutions and motivation. \nConnect with your peers at monthly BOD™ LIVE meetings where you’re in the spotlight. \nTo participate in BOD™ LIVE | Virtual Member Only Meetings\, please join BOD™ Membership. \n 
URL:https://businessofdesign.com/event/bod-live-your-dream-team/
CATEGORIES:BOD Live Meetings
ATTACH;FMTTYPE=image/jpeg:https://businessofdesign.com/wp-content/uploads/2021/02/Dream_Team.jpg
END:VEVENT
BEGIN:VEVENT
DTSTART;TZID=America/Toronto:20210310T130000
DTEND;TZID=America/Toronto:20210310T140000
DTSTAMP:20260422T070337
CREATED:20201215T170949Z
LAST-MODIFIED:20210818T120359Z
UID:101562-1615381200-1615384800@businessofdesign.com
SUMMARY:BOD™ LIVE | Book Club
DESCRIPTION:If you know Kimberley\, you know this is the book that started it all—E-MYTH. Join BOD™ for its first book club meeting. This BOD™ LIVE event will focus on the teachings found in Michael E. Gerber’s seminal book\, The E-myth. Gerber’s suggestions to create systems in order to run your business and save your sanity are a founding principle of what we teach at Business of Design™. \nYou do not have to buy the book to participate. BOD™ Live events are included with your membership. \n \nRead The E-Myth and join in the conversation.\n  \nTO PARTICIPATE LIVE \n\nMark your calendar for March 10th at 1pm EST.\nWatch your inbox for email reminders.\nSign into your Member Dashboard and click on JOIN BOD™ LIVE.\n\n  \nWATCH THE RECORDING \nNot able to join us live? 🙁 \nThe recording will be available for a limited time following the BOD™ LIVE meeting. Click on BOD™ Live in the Member Dashboard menu to see what you missed. \n  \nAbout BOD™ LIVE\nMeet the superstars of BOD™—members\, just like you. Hear first hand what works and what doesn’t. Success strategies\, targeted solutions and motivation. \nConnect with your peers at monthly BOD™ LIVE meetings where you’re in the spotlight. \nTo participate in BOD™ LIVE | Virtual Member Only Meetings\, please join BOD™ Membership. \n 
URL:https://businessofdesign.com/event/bod-live-book-club-emyth/
CATEGORIES:BOD Live Meetings
ATTACH;FMTTYPE=image/jpeg:https://businessofdesign.com/wp-content/uploads/2020/12/Book_Club.jpg
END:VEVENT
BEGIN:VEVENT
DTSTART;TZID=America/Toronto:20210210T130000
DTEND;TZID=America/Toronto:20210210T140000
DTSTAMP:20260422T070337
CREATED:20201215T143828Z
LAST-MODIFIED:20210818T120359Z
UID:101558-1612962000-1612965600@businessofdesign.com
SUMMARY:BOD™ LIVE | Palm Springs
DESCRIPTION:Join Kimberley Seldon and Janeen Laudenback live from Palm Springs on February 10th.\nWe know … we’re all stuck at home. Sigh. However\, Team BOD™ is inviting you to visit Palm Springs (without leaving your home). Take in the local sights\, tour a cool project and hang out with Christopher Kennedy! \nDon’t miss out on this burst of sunshine. \n  \nSpecial Guest | Christopher Kennedy \n \n  \nTO PARTICIPATE LIVE \n\nMark your calendar for February 10th at 1pm EST.\nWatch your inbox for email reminders.\nSign into your Member Dashboard and click on JOIN BOD™ LIVE.\n\n  \nWATCH THE RECORDING \nNot able to join us live? 🙁 \nThe recording will be available for a limited time following the BOD™ LIVE meeting. Click on BOD™ Live in the Member Dashboard menu to see what you missed. \n  \n  \nAbout BOD™ LIVE\nMeet the superstars of BOD™—members\, just like you. Hear first hand what works and what doesn’t. Success strategies\, targeted solutions and motivation. \nConnect with your peers at monthly BOD™ LIVE meetings where you’re in the spotlight. \nTo participate in BOD™ LIVE | Virtual Member Only Meetings\, please join BOD™ Membership. \n 
URL:https://businessofdesign.com/event/bod-live-palm-springs/
CATEGORIES:BOD Live Meetings
ATTACH;FMTTYPE=image/jpeg:https://businessofdesign.com/wp-content/uploads/2020/12/PS_Christopher_Kennedy_2.jpg
END:VEVENT
BEGIN:VEVENT
DTSTART;TZID=America/Toronto:20210113T130000
DTEND;TZID=America/Toronto:20210113T140000
DTSTAMP:20260422T070337
CREATED:20201123T181501Z
LAST-MODIFIED:20210818T120359Z
UID:101133-1610542800-1610546400@businessofdesign.com
SUMMARY:BOD™ LIVE | Design for Living
DESCRIPTION:Join us for BOD™ Live on January 13th to start 2021 off strong.\nMature\, successful businesses begin with a strong foundation; a vision of where the owner wants the business to be in 3 or 5 or 10 years and beyond. \nMany times\, this future vision includes ideas and strategies that are fundamental for work success but fail to consider the importance of how the business will impact the owner’s life. After all\, what’s the point of having a thriving business if it doesn’t support the lifestyle you deserve and desire? \nDuring this month’s BOD LIVE meeting\, we’ll talk about the power of creating a blueprint for your business—one that delivers more of the perks and benefits you deserve and desire as the owner of a company. \nFeaturing BOD™ Team Member\, Janeen Laudenback\, BOD Advocate & Program Specialist. \n  \nTO PARTICIPATE LIVE \n\nMark your calendar for January 13th at 1pm EST.\nWatch your inbox for email reminders.\nSign into your Member Dashboard and click on JOIN BOD™ LIVE.\n\n  \nWATCH THE RECORDING \nNot able to join us live? 🙁 \nThe recording will be available for a limited time following the BOD™ LIVE meeting. Click on BOD™ Live in the Member Dashboard menu to see what you missed. \n  \nAbout BOD™ LIVE\nMeet the superstars of BOD™—members\, just like you. Hear first hand what works and what doesn’t. Success strategies\, targeted solutions and motivation. \nConnect with your peers at monthly BOD™ LIVE meetings where you’re in the spotlight. \nTo participate in BOD™ LIVE | Virtual Member Only Meetings\, please join BOD™ Membership. \n 
URL:https://businessofdesign.com/event/bod-live-design-for-living/
CATEGORIES:BOD Live Meetings
ATTACH;FMTTYPE=image/jpeg:https://businessofdesign.com/wp-content/uploads/2020/11/KS_and_JL_reversed.jpg
END:VEVENT
BEGIN:VEVENT
DTSTART;TZID=America/Toronto:20201209T130000
DTEND;TZID=America/Toronto:20201209T140000
DTSTAMP:20260422T070337
CREATED:20201104T150922Z
LAST-MODIFIED:20210818T120359Z
UID:100471-1607518800-1607522400@businessofdesign.com
SUMMARY:BOD™ LIVE | Resolutions
DESCRIPTION:What is your New Year’s resolution?\nReady for 2021? Yaaaaas. Let’s share our New Year’s resolutions. What are looking forward to\, what are you planning\, and what are you committed to in 2021?Join the fun\, December 9th at 1pm EST. \nAwesome BOD™ Member\, New York designer Darci Hether\, will kick things off by sharing her own New Year’s resolutions and\, just for fun\, a delicious cocktail recipe. With BOD™ Members around the world\, it will be 5 o’clock somewhere. \n \nDARCI HETHER\nCEO\, Principal Designer and Cocktail Maker\nDarci Hether New York \n  \nTO PARTICIPATE LIVE \n\nMark your calendar for December 9th at 1pm EST.\nWatch your inbox for email reminders (and Darci’s cocktail recipe).\nSign into your Member Dashboard and click on JOIN BOD™ LIVE.\n\n  \nWATCH THE RECORDING \nNot able to join us live? 🙁 \nThe recording will be available for a limited time following the BOD™ LIVE meeting. Click on BOD™ Live in the Member Dashboard menu to see what you missed. \n  \nAbout BOD™ LIVE\nMeet the superstars of BOD™—members\, just like you. Hear first hand what works and what doesn’t. Success strategies\, targeted solutions and motivation. \nConnect with your peers at monthly BOD™ LIVE meetings where you’re in the spotlight. \nTo participate in BOD™ LIVE | Virtual Meetings\, please join BOD™ Membership. \n 
URL:https://businessofdesign.com/event/bod-live-resolutions/
CATEGORIES:BOD Live Meetings
ATTACH;FMTTYPE=image/jpeg:https://businessofdesign.com/wp-content/uploads/2020/11/Dec9_webinar_cropped.jpg
END:VEVENT
BEGIN:VEVENT
DTSTART;TZID=America/Toronto:20201104T130000
DTEND;TZID=America/Toronto:20201104T140000
DTSTAMP:20260422T070337
CREATED:20200922T213621Z
LAST-MODIFIED:20210818T120359Z
UID:93044-1604494800-1604498400@businessofdesign.com
SUMMARY:BOD™ LIVE | I'm Over It
DESCRIPTION:2020. Are you over it? Yup. Us too.\nLet’s hash it out at the inaugural BOD™ LIVE. Join us November 4th at 1pm EST. \nWe asked BOD™ members Jamie Galapo\, Rebecca Ward and Christopher Shields to dish on what they’re done with in 2020\, and what they plan to do about it. \n\n			\n				\n			\n				\n				Jaime Galapo\n				\n			\n				\n			\n				\n				Rebecca Ward\n				\n			\n				\n			\n				\n				Christopher Shields\n				\n		\n\n  \nTO PARTICIPATE LIVE \n\nMark your calendar for November 4th at 1pm EST.\nWatch your inbox for email reminders.\nSign into your Member Dashboard and click on JOIN BOD™ LIVE.\n\n  \nWATCH THE RECORDING \nNot able to join us live? 🙁 \nThe recording will be made available for a limited time following the live meeting. Click on BOD™ Live in the Member Dashboard menu to see what you missed. \n  \nSAVE THE DATE | The next BOD™ Live is December 9th. BOD™ Members (like you!) will share their new year’s resolutions. All are welcome to share! \n  \nAbout BOD™ LIVE\nMeet the superstars of BOD™—members\, just like you. Hear first hand what works and what doesn’t. Success strategies\, targeted solutions and motivation. \nConnect with your peers at monthly BOD™ LIVE meetings where you’re in the spotlight. \nTo participate in BOD™ LIVE | Virtual Meetings\, please join BOD™ Membership. \n 
URL:https://businessofdesign.com/event/bod-live-im-over-it/
CATEGORIES:BOD Live Meetings
ATTACH;FMTTYPE=image/jpeg:https://businessofdesign.com/wp-content/uploads/2020/09/BOD™-Live-Meetings-Web_Cropped.jpg
END:VEVENT
BEGIN:VEVENT
DTSTART;TZID=America/Toronto:20190422T000000
DTEND;TZID=America/Toronto:20190422T000000
DTSTAMP:20260422T070337
CREATED:20180926T154923Z
LAST-MODIFIED:20210818T123204Z
UID:100651-1555891200-1555891200@businessofdesign.com
SUMMARY:Designer Round Table | Exclusive to PREMIUM Members
DESCRIPTION:Here’s your chance to be part of the conversation and contribute to our Business of Design™ community. \nIf you’re in California (or want to travel to join us)\, then you’re invite to an exclusive Round Table Discussion with Kimberley\, hosted by one of our amazing members\, Carly Waters (carlywatersstyle.com). \nCarly is opening her home (which is stunning by the way) to a small group of Premium Member to participate in a candid\, open discussion on some the key topics we cover at Business of Design™. \nDate: This event took place on April 22\, 2019. \nLocation: Private home in Pacific Palisades (full address provided to those attending) \nHeads Up: We will be filming this round table and including the recordings within our Premium Courses so all members can benefit. By attending\, you are agreeing to be on camera during the event. \nRegister to Attend: This event is open to a limited number of Premium Members. If you would like to participate\, please send your request to cheryl@businessofdesign.com with the following information: \n\nwhat stage of business are you in?\nwhy did you join Business of Design™?\nand what topics would you most love to discuss? Please submit 3 topic requests (for example\, managing clients expectations\, charging for services\, the contract\, asking for money\, growing your business\, etc.).\n\nGet a look at the beautiful backdrop for this exclusive event…
URL:https://businessofdesign.com/event/designer-round-table-exclusive-to-premium-members/
CATEGORIES:BOD Live Meetings
ATTACH;FMTTYPE=image/jpeg:https://businessofdesign.com/wp-content/uploads/2018/09/Palisades-240.jpg
END:VEVENT
END:VCALENDAR