BEGIN:VCALENDAR
VERSION:2.0
PRODID:-//Business of Design ® - ECPv6.15.18//NONSGML v1.0//EN
CALSCALE:GREGORIAN
METHOD:PUBLISH
X-ORIGINAL-URL:https://businessofdesign.com
X-WR-CALDESC:Events for Business of Design ®
REFRESH-INTERVAL;VALUE=DURATION:PT1H
X-Robots-Tag:noindex
X-PUBLISHED-TTL:PT1H
BEGIN:VTIMEZONE
TZID:America/Toronto
BEGIN:DAYLIGHT
TZOFFSETFROM:-0500
TZOFFSETTO:-0400
TZNAME:EDT
DTSTART:20240310T070000
END:DAYLIGHT
BEGIN:STANDARD
TZOFFSETFROM:-0400
TZOFFSETTO:-0500
TZNAME:EST
DTSTART:20241103T060000
END:STANDARD
BEGIN:DAYLIGHT
TZOFFSETFROM:-0500
TZOFFSETTO:-0400
TZNAME:EDT
DTSTART:20250309T070000
END:DAYLIGHT
BEGIN:STANDARD
TZOFFSETFROM:-0400
TZOFFSETTO:-0500
TZNAME:EST
DTSTART:20251102T060000
END:STANDARD
BEGIN:DAYLIGHT
TZOFFSETFROM:-0500
TZOFFSETTO:-0400
TZNAME:EDT
DTSTART:20260308T070000
END:DAYLIGHT
BEGIN:STANDARD
TZOFFSETFROM:-0400
TZOFFSETTO:-0500
TZNAME:EST
DTSTART:20261101T060000
END:STANDARD
END:VTIMEZONE
BEGIN:VEVENT
DTSTART;TZID=America/Toronto:20250527T120000
DTEND;TZID=America/Toronto:20250527T140000
DTSTAMP:20260422T044651
CREATED:20250331T170339Z
LAST-MODIFIED:20250404T140636Z
UID:126683-1748347200-1748354400@businessofdesign.com
SUMMARY:WEBINAR | Project Management\, a Legal Path to Compliance
DESCRIPTION:Interior Designers as Project Managers. Brought to you by Business of Design® and attorney Wendy Estela. \nYes\, there is a legal path to billing clients for project management. At last! \nAttorney Wendy Estela will give you the specific contract language you can use to protect yourself when you provide project management for your clients.  \nIn this seminar\, you will hear how Kimberley navigates project management with her clients in Los Angeles and Toronto. You will also hear from Wendy Estela how you can remain legally compliant while providing this essential service. \nIf you’ve always wanted to provide project management for clients\, but were reluctant for any reason\, then this is the seminar for you. \nIf you currently provide project management to clients\, but wonder if you have the right language for your contract\, then this is the seminar for you. \nAttendees will receive a checklist and a process to follow that will allow you to run your projects logically\, efficiently\, and profitably. \nDATE | Tuesday\, May 27th\, 2025\nTIME | 12:00 – 2:00 pm EST\nFORMAT | Live webinar + Q&A \nThis is a must-attend for interior design professionals who: \n\ncurrently provide (or want to offer) project management\nwant to take the lead on projects\nneed legal advice on compliance\nwant to confidently hire essential trades on behalf of clients\nwant to implement BOD™’s method of project management\nneed to reach the next level of profitability in your business\nwork in multiple locations or jurisdictions\n\n\n\nWe’ll break it down\, give you the facts\, and make sure you leave with a clear action plan. \nAttendees will leave with: \n\nThe legal language required to take on project management\nA checklist to ensure you have all your bases covered\nA more robust path to profitability\n\nREGISTER NOW \nRegular Price | $695\nMember Price | $395 (Save $300) \nGET YOUR TICKET\n*Not yet a member? Add Business of Design® Membership to your cart to save $300 on this webinar. \nDisclaimer: This information is educational in nature and not legal advice. Designers should consult with a qualified attorney familiar with construction and design law in their specific jurisdiction before implementing these approaches.
URL:https://businessofdesign.com/event/bod-project-management/
CATEGORIES:Webinars
ATTACH;FMTTYPE=image/jpeg:https://businessofdesign.com/wp-content/uploads/2025/03/Course_Project_Management.jpg
END:VEVENT
END:VCALENDAR