BEGIN:VCALENDAR
VERSION:2.0
PRODID:-//Business of Design ® - ECPv6.15.18//NONSGML v1.0//EN
CALSCALE:GREGORIAN
METHOD:PUBLISH
X-ORIGINAL-URL:https://businessofdesign.com
X-WR-CALDESC:Events for Business of Design ®
REFRESH-INTERVAL;VALUE=DURATION:PT1H
X-Robots-Tag:noindex
X-PUBLISHED-TTL:PT1H
BEGIN:VTIMEZONE
TZID:America/Toronto
BEGIN:DAYLIGHT
TZOFFSETFROM:-0500
TZOFFSETTO:-0400
TZNAME:EDT
DTSTART:20240310T070000
END:DAYLIGHT
BEGIN:STANDARD
TZOFFSETFROM:-0400
TZOFFSETTO:-0500
TZNAME:EST
DTSTART:20241103T060000
END:STANDARD
BEGIN:DAYLIGHT
TZOFFSETFROM:-0500
TZOFFSETTO:-0400
TZNAME:EDT
DTSTART:20250309T070000
END:DAYLIGHT
BEGIN:STANDARD
TZOFFSETFROM:-0400
TZOFFSETTO:-0500
TZNAME:EST
DTSTART:20251102T060000
END:STANDARD
BEGIN:DAYLIGHT
TZOFFSETFROM:-0500
TZOFFSETTO:-0400
TZNAME:EDT
DTSTART:20260308T070000
END:DAYLIGHT
BEGIN:STANDARD
TZOFFSETFROM:-0400
TZOFFSETTO:-0500
TZNAME:EST
DTSTART:20261101T060000
END:STANDARD
END:VTIMEZONE
BEGIN:VEVENT
DTSTART;TZID=America/Toronto:20251021T130000
DTEND;TZID=America/Toronto:20251021T140000
DTSTAMP:20260421T211656
CREATED:20251001T125357Z
LAST-MODIFIED:20251021T181758Z
UID:127884-1761051600-1761055200@businessofdesign.com
SUMMARY:Get on Track: 3 Shifts to Attract\, Qualify\, and Profit
DESCRIPTION:Free 1-Hour Webinar — October 21 \n⚡ Here’s the truth: most design projects don’t go off the rails halfway through — they derail before the project even begins. The wrong clients\, unclear expectations\, weak systems\, and underpriced services create chaos before you’ve even booked the consultation. \nThat’s why the most successful designers (our BOD™ community) run their projects with the precision of a well-oiled steam engine. Everything is engineered to entice ideal clients board at the start of the process\, and then\, it’s so efficient and streamlined that those clients stay on until the very last stop—a finished project\, ready to photograph. \nIn this free\, one-hour training\, you’ll learn 3 strategic shifts that will change the way you attract\, manage\, and get paid by clients. \nWhat You’ll Learn: \n🚫 Shift #1: Stop Chasing the Wrong Clients \nLearn how to prequalify leads before they ever hit your inbox\, so you spend zero time on tire-kickers\, bargain-hunters\, or anyone who isn’t your ideal client. \n🎯 Shift #2: Eliminate Unclear Expectations \nDiscover how to use a structured\, paid consultation to set boundaries\, define deliverables\, and establish yourself as the expert and authority from day one. \n💰 Shift #3: Replace Underpriced Services with Premium Expertise \nWeak pricing sends the wrong signal. Learn how to confidently charge premium fees that reflect your value\, while weeding out clients who don’t respect your process. \nSeats are free but limited. Don’t miss your chance to get on board the BOD™ train — and stay on track to success. \n👉 Reserve your free seat today and join us live on October 21.
URL:https://businessofdesign.com/event/get-on-track/
CATEGORIES:Webinars
ATTACH;FMTTYPE=image/png:https://businessofdesign.com/wp-content/uploads/2025/10/Train-to-Success.png
END:VEVENT
END:VCALENDAR