BEGIN:VCALENDAR
VERSION:2.0
PRODID:-//Business of Design ® - ECPv6.15.18//NONSGML v1.0//EN
CALSCALE:GREGORIAN
METHOD:PUBLISH
X-ORIGINAL-URL:https://businessofdesign.com
X-WR-CALDESC:Events for Business of Design ®
REFRESH-INTERVAL;VALUE=DURATION:PT1H
X-Robots-Tag:noindex
X-PUBLISHED-TTL:PT1H
BEGIN:VTIMEZONE
TZID:America/Toronto
BEGIN:DAYLIGHT
TZOFFSETFROM:-0500
TZOFFSETTO:-0400
TZNAME:EDT
DTSTART:20250309T070000
END:DAYLIGHT
BEGIN:STANDARD
TZOFFSETFROM:-0400
TZOFFSETTO:-0500
TZNAME:EST
DTSTART:20251102T060000
END:STANDARD
BEGIN:DAYLIGHT
TZOFFSETFROM:-0500
TZOFFSETTO:-0400
TZNAME:EDT
DTSTART:20260308T070000
END:DAYLIGHT
BEGIN:STANDARD
TZOFFSETFROM:-0400
TZOFFSETTO:-0500
TZNAME:EST
DTSTART:20261101T060000
END:STANDARD
BEGIN:DAYLIGHT
TZOFFSETFROM:-0500
TZOFFSETTO:-0400
TZNAME:EDT
DTSTART:20270314T070000
END:DAYLIGHT
BEGIN:STANDARD
TZOFFSETFROM:-0400
TZOFFSETTO:-0500
TZNAME:EST
DTSTART:20271107T060000
END:STANDARD
END:VTIMEZONE
BEGIN:VEVENT
DTSTART;TZID=America/Toronto:20260601T120000
DTEND;TZID=America/Toronto:20260626T140000
DTSTAMP:20260421T135218
CREATED:20260312T153658Z
LAST-MODIFIED:20260312T154010Z
UID:129226-1780315200-1782482400@businessofdesign.com
SUMMARY:BOD™ 4-Week Project Initiation Bootcamp
DESCRIPTION:BUSINESS OF DESIGN®\n4-WEEK PROJECT INITIATION BOOTCAMP ✨\nThis four-week implementation intensive helps you install a complete Project Initiation Process — from pre-qualifying and selling consultations to presenting contracts with authority and securing retainers that protect your time and cash flow. \nYou’ll stop negotiating from weakness\, eliminate free consultations\, and launch projects with clear scope\, strong boundaries\, and financial protection in place. \nBecause the way a project starts is usually how it ends.
URL:https://businessofdesign.com/event/bod-4-week-project-initiation-bootcamp/
CATEGORIES:Webinars
ATTACH;FMTTYPE=image/jpeg:https://businessofdesign.com/wp-content/uploads/2026/02/Project-Initiation-Bootcamp.jpg
END:VEVENT
END:VCALENDAR