BEGIN:VCALENDAR
VERSION:2.0
PRODID:-//Business of Design ® - ECPv6.15.18//NONSGML v1.0//EN
CALSCALE:GREGORIAN
METHOD:PUBLISH
X-WR-CALNAME:Business of Design ®
X-ORIGINAL-URL:https://businessofdesign.com
X-WR-CALDESC:Events for Business of Design ®
REFRESH-INTERVAL;VALUE=DURATION:PT1H
X-Robots-Tag:noindex
X-PUBLISHED-TTL:PT1H
BEGIN:VTIMEZONE
TZID:America/Toronto
BEGIN:DAYLIGHT
TZOFFSETFROM:-0500
TZOFFSETTO:-0400
TZNAME:EDT
DTSTART:20170312T070000
END:DAYLIGHT
BEGIN:STANDARD
TZOFFSETFROM:-0400
TZOFFSETTO:-0500
TZNAME:EST
DTSTART:20171105T060000
END:STANDARD
BEGIN:DAYLIGHT
TZOFFSETFROM:-0500
TZOFFSETTO:-0400
TZNAME:EDT
DTSTART:20180311T070000
END:DAYLIGHT
BEGIN:STANDARD
TZOFFSETFROM:-0400
TZOFFSETTO:-0500
TZNAME:EST
DTSTART:20181104T060000
END:STANDARD
BEGIN:DAYLIGHT
TZOFFSETFROM:-0500
TZOFFSETTO:-0400
TZNAME:EDT
DTSTART:20190310T070000
END:DAYLIGHT
BEGIN:STANDARD
TZOFFSETFROM:-0400
TZOFFSETTO:-0500
TZNAME:EST
DTSTART:20191103T060000
END:STANDARD
BEGIN:DAYLIGHT
TZOFFSETFROM:-0500
TZOFFSETTO:-0400
TZNAME:EDT
DTSTART:20200308T070000
END:DAYLIGHT
BEGIN:STANDARD
TZOFFSETFROM:-0400
TZOFFSETTO:-0500
TZNAME:EST
DTSTART:20201101T060000
END:STANDARD
BEGIN:DAYLIGHT
TZOFFSETFROM:-0500
TZOFFSETTO:-0400
TZNAME:EDT
DTSTART:20210314T070000
END:DAYLIGHT
BEGIN:STANDARD
TZOFFSETFROM:-0400
TZOFFSETTO:-0500
TZNAME:EST
DTSTART:20211107T060000
END:STANDARD
END:VTIMEZONE
BEGIN:VEVENT
DTSTART;TZID=America/Toronto:20200323T130000
DTEND;TZID=America/Toronto:20200323T140000
DTSTAMP:20260421T140835
CREATED:20200315T190523Z
LAST-MODIFIED:20210818T122727Z
UID:100657-1584968400-1584972000@businessofdesign.com
SUMMARY:BOD™ Business Alert Webinar | MARCH 23
DESCRIPTION:This FREE BOD™ Business Alert Webinar is open to everyone\, not just paid members of BOD™. To join this webinar\, you must be signed into your Business of Design™ account or create a new account\, then click the button to register below. \nSpace is limited to the first 100 people who sign up. We will hit capacity\, so act quickly. \nFREE Webinar | Monday\, March 23rd at 1:00 pm EST \nRegistration is closed.
URL:https://businessofdesign.com/event/bod-business-alert-webinar-mar23/
CATEGORIES:Webinars
ATTACH;FMTTYPE=image/png:https://businessofdesign.com/wp-content/uploads/2020/03/BOD-Business-Alert-Webinar-Mar-23.png
END:VEVENT
BEGIN:VEVENT
DTSTART;TZID=America/Toronto:20200323T000000
DTEND;TZID=America/Toronto:20200916T000000
DTSTAMP:20260421T140835
CREATED:20200420T183144Z
LAST-MODIFIED:20210818T122754Z
UID:100637-1584921600-1600214400@businessofdesign.com
SUMMARY:BOD™ 5 PHASE RECOVERY PROGRAM | Webinar Series
DESCRIPTION:Yes\, so much has changed\, and suddenly. \nWhat doesn’t change\, ever\, is the entrepreneur’s determination to create and the commitment we have at Business of Design™ to help you\, the hard working interior design professional\, do just that. Yes\, you can satisfy clients\, you can be profitable\, and you can build the future you desire and deserve. Start where you are. Start today. \nBusiness of Design™\, your number one trusted resource\, will set a measured\, prescribed course of action\, which will move you through a precise process for the rebirth\, rebuild or renewal of your business. Like all BOD™ courses\, our approach is rational\, strategic and experience-based. \nNow\, more than ever\, you have an opportunity to build the business of your dreams—a business that supports your life. There are no more excuses. \nMembers\, this content is free. *content subject to change. \n\nJoin us for BOD™ 5 Phase Recover Program\n\nRECORDINGS FROM ALL WEBINARS ARE AVAILABLE WITHIN PROGRAMS UNTIL DECEMBER 31\, 2020.\n\nBOD™ 5 PHASE RECOVERY PROGRAM\n\nI. Survive | 1 part\n \n\nFREE Version | March 23\, 2020\nMEMBER Version | March 25\, 2020\n\nII. Commit to Process | 3 parts  \n\nThe Process | BOD™ Boot Camp | April 2-30\, 2020\nImplement & Discipline | May 6\, 2020\nIdentify Excuses & Bad Ideas | May 20\, 2020\n\nIII. Positioning  | 2 parts\n \n\nThe Ideal Future & Client | June 10\, 2020\nThe Qualifying Conversation | July 8\, 2020\n\n IV. Long-Term Growth | 1 parts \n\nNegotiating Success | August 19\, 2020\n\nV. Thrive | 1 part \n\nThrive | September 16\, 2020
URL:https://businessofdesign.com/event/5-phase-recovery-program/
CATEGORIES:Webinars
ATTACH;FMTTYPE=image/png:https://businessofdesign.com/wp-content/uploads/2020/03/BOD-Recovery-Program.png
END:VEVENT
BEGIN:VEVENT
DTSTART;TZID=America/Toronto:20180530T130000
DTEND;TZID=America/Toronto:20180530T140000
DTSTAMP:20260421T140835
CREATED:20180514T141850Z
LAST-MODIFIED:20210818T122935Z
UID:100647-1527685200-1527688800@businessofdesign.com
SUMMARY:BOD Membership Q&A | Webinar May 30
DESCRIPTION:If you’re new to BOD\, join Cheryl Horne\, Director of Operation\, for this one hour webinar to find out what our membership is all about. Ask questions about content\, benefits\, access and more. \nFeel free to submit your questions in advance to cheryl@businessofdesign.com or join live to ask in person. \nTherapy for your business and your life! \nWhen: Wednesday\, May 30th\, 2018 | 1:00 – 2:00 pm EST. \n\nWebinar Recording\nThe webinar recording will be made available only to those who register for the group coaching sessions. A link to the recording will be sent our 24 hours following the live webinar and available until the next session. \nCan’t attend? No problem.\nPlease be sure to register and you will receive a copy of the webinar recording emailed directly to you 24 hours after the live event. \nHave questions?\nPlease email cheryl@businessofdesign.com up to 2 hour prior to the webinar and she’ll ask your question for you. Please do not email our general inbox at info@businessofdesign.com as your question may not be reviewed in time for the webinar. \n\nYou must be signed into your account to register. \n 
URL:https://businessofdesign.com/event/bod-membership-qa-webinar-may-30/
CATEGORIES:Webinars
ATTACH;FMTTYPE=image/png:https://businessofdesign.com/wp-content/uploads/2018/05/MemberQA.png
END:VEVENT
END:VCALENDAR