BEGIN:VCALENDAR
VERSION:2.0
PRODID:-//Business of Design ® - ECPv6.15.18//NONSGML v1.0//EN
CALSCALE:GREGORIAN
METHOD:PUBLISH
X-WR-CALNAME:Business of Design ®
X-ORIGINAL-URL:https://businessofdesign.com
X-WR-CALDESC:Events for Business of Design ®
REFRESH-INTERVAL;VALUE=DURATION:PT1H
X-Robots-Tag:noindex
X-PUBLISHED-TTL:PT1H
BEGIN:VTIMEZONE
TZID:America/Toronto
BEGIN:DAYLIGHT
TZOFFSETFROM:-0500
TZOFFSETTO:-0400
TZNAME:EDT
DTSTART:20250309T070000
END:DAYLIGHT
BEGIN:STANDARD
TZOFFSETFROM:-0400
TZOFFSETTO:-0500
TZNAME:EST
DTSTART:20251102T060000
END:STANDARD
BEGIN:DAYLIGHT
TZOFFSETFROM:-0500
TZOFFSETTO:-0400
TZNAME:EDT
DTSTART:20260308T070000
END:DAYLIGHT
BEGIN:STANDARD
TZOFFSETFROM:-0400
TZOFFSETTO:-0500
TZNAME:EST
DTSTART:20261101T060000
END:STANDARD
BEGIN:DAYLIGHT
TZOFFSETFROM:-0500
TZOFFSETTO:-0400
TZNAME:EDT
DTSTART:20270314T070000
END:DAYLIGHT
BEGIN:STANDARD
TZOFFSETFROM:-0400
TZOFFSETTO:-0500
TZNAME:EST
DTSTART:20271107T060000
END:STANDARD
END:VTIMEZONE
BEGIN:VEVENT
DTSTART;TZID=America/Toronto:20260318T130000
DTEND;TZID=America/Toronto:20260318T140000
DTSTAMP:20260425T103816
CREATED:20260128T172939Z
LAST-MODIFIED:20260224T184725Z
UID:128859-1773838800-1773842400@businessofdesign.com
SUMMARY:BOD™ LIVE | Monthly Coaching
DESCRIPTION:As a BOD™ Member\, you have 24/7 access to learning\, now it’s time to implement for results.  \nIf you’re serious about transforming your business by implementing the systems and procedures you learn about through Business of Design® programs\, our monthly BOD™ Live coaching sessions will help keep you motivated\, accountable\, and in good company. Come prepared with your questions\, and be ready to offer experience\, expertise and support to your fellow members. \nJoin us each month to help fast track the process and address your most pressing questions. \nYou are not alone. BOD™ Live meetings are therapy for your business and your life! \n\n\nBecome a Member to participate. \n  \nFOR MEMBERS TO PARTICIPATE: \n\nMark your calendar.\nWatch your inbox for email reminders.\nSign into your Member Dashboard to join.\n\n  \nNot able to join us live?  \nMembers can submit a question in advance and it will be answered live on the call. \nBOD™ Live Coaching calls are recorded and available for a limited time. \nCheck your member dashboard for future coaching dates.
URL:https://businessofdesign.com/event/bod-live-coaching/
CATEGORIES:BOD Live Meetings
ATTACH;FMTTYPE=image/jpeg:https://businessofdesign.com/wp-content/uploads/2020/09/BOD™-Live-Meetings-Web_Cropped.jpg
END:VEVENT
BEGIN:VEVENT
DTSTART;TZID=America/Toronto:20260325T130000
DTEND;TZID=America/Toronto:20260325T140000
DTSTAMP:20260425T103816
CREATED:20260224T185254Z
LAST-MODIFIED:20260225T134606Z
UID:129068-1774443600-1774447200@businessofdesign.com
SUMMARY:Launch Projects Like a Boss | Presented by DesignFiles
DESCRIPTION:Do your projects start strong… but slowly drift off track? \nThe way you launch a project determines everything that follows. \nIt’s time to get organized\, start each project smoothly\, and move forward on a clear path.\nJoin us on March 25 at 10am PT / 1pm ET for a free live workshop with Kimberley Seldon of Business of Design®\, where we’ll break down how to launch projects like a boss—from the very first consultation to confident invoicing. \nYou’ll learn: \n✅ How to outperform your typical consultation experience and convert more clients\n✅ How to perfect your sales technique so it naturally leads to new business\n✅ Kimberley’s tried-and-true system for organizing billable hours and invoicing\n✅ How to develop confidence using physical techniques from the world’s best coaches \nWe’ll also have time for live Q&A\, so bring your questions. \nThis event is for interior designers who are ready to stop undercharging\, stop second-guessing\, and start running projects with clarity and control.\nJoin us live and take your business to the next level. \nADD THIS EVENT TO YOUR CALENDAR
URL:https://businessofdesign.com/event/designfiles/
ATTACH;FMTTYPE=image/png:https://businessofdesign.com/wp-content/uploads/2026/02/Launch-Projects-Like-a-Boss–Event-Image–1200x628.png
END:VEVENT
BEGIN:VEVENT
DTSTART;TZID=America/Toronto:20260414T130000
DTEND;TZID=America/Toronto:20260414T140000
DTSTAMP:20260425T103816
CREATED:20260312T151706Z
LAST-MODIFIED:20260404T134359Z
UID:129223-1776171600-1776175200@businessofdesign.com
SUMMARY:Beyond the Budget | Presented by Daniel House Club
DESCRIPTION:Beyond the Budget: Designing Profit\, Value\, and Authority in Your Interior Design Business\nWhat if budgeting less—and thinking bigger—was the key to better design and better profits? \nIn this dynamic 1-hour webinar\, Kimberley Seldon\, founder of Business of Design®\, brings together three powerful ideas every interior designer needs to master today: specifying with confidence\, leveraging vendor partnerships\, and building a business model that doesn’t rely solely on design fees. \nYou’ll learn how to move beyond price-driven decisions and instead propose the best solutions for your clients—solutions that elevate your brand\, deepen client trust\, and improve profitability. Kimberley will also unpack how strategic vendor relationships can reduce your workload while increasing margins\, and why successful designers stop waiting for permission and start setting the terms of their business. \nPresented in partnership with Daniel House Club\, this webinar is for designers who are ready to stop playing small\, step into authority\, and design businesses that work as beautifully as the spaces they create. \nDate: April 14\nTime: 1:00 – 2:00 pm EST\nFormat: Live 1-hour webinar\nLed by: Kimberley Seldon\, Business of Design®\nIn partnership with: Daniel House Club \nBy the end of this webinar\, you will be able to: \n\nSpecify with confidence\, not fear\nLearn how to recommend the best products and solutions—without defaulting to the lowest price—and why this strengthens both your designs and client relationships.\nElevate your role from order-taker to trusted expert\nDiscover how to go beyond the brief and guide clients toward what they truly need\, even when they can’t articulate it themselves.\nIncrease profitability through smarter vendor partnerships\nSee how working in harmony with key vendors can save time\, reduce stress\, and improve margins—without doing more work.\nBuild a business model that doesn’t rely on fees alone\nUnderstand why design fees are only part of the picture\, and how successful designers take control by setting the terms and structuring for profit.\nDesign a business that supports your life—not the other way around\nLearn how clarity\, authority\, and alignment lead to more sustainable success.\n\nREGISTER NOW
URL:https://businessofdesign.com/event/beyond-the-budget-presented-by-daniel-house-club/
ATTACH;FMTTYPE=image/jpeg:https://businessofdesign.com/wp-content/uploads/2025/05/BusinessofDesign_KimberleyLifestyle_0325-scaled.jpg
END:VEVENT
BEGIN:VEVENT
DTSTART;TZID=America/Toronto:20260601T120000
DTEND;TZID=America/Toronto:20260626T140000
DTSTAMP:20260425T103816
CREATED:20260312T153658Z
LAST-MODIFIED:20260312T154010Z
UID:129226-1780315200-1782482400@businessofdesign.com
SUMMARY:BOD™ 4-Week Project Initiation Bootcamp
DESCRIPTION:BUSINESS OF DESIGN®\n4-WEEK PROJECT INITIATION BOOTCAMP ✨\nThis four-week implementation intensive helps you install a complete Project Initiation Process — from pre-qualifying and selling consultations to presenting contracts with authority and securing retainers that protect your time and cash flow. \nYou’ll stop negotiating from weakness\, eliminate free consultations\, and launch projects with clear scope\, strong boundaries\, and financial protection in place. \nBecause the way a project starts is usually how it ends.
URL:https://businessofdesign.com/event/bod-4-week-project-initiation-bootcamp/
CATEGORIES:Webinars
ATTACH;FMTTYPE=image/jpeg:https://businessofdesign.com/wp-content/uploads/2026/02/Project-Initiation-Bootcamp.jpg
END:VEVENT
BEGIN:VEVENT
DTSTART;TZID=America/Toronto:20261103T120000
DTEND;TZID=America/Toronto:20261209T140000
DTSTAMP:20260425T103816
CREATED:20250702T185058Z
LAST-MODIFIED:20260312T154158Z
UID:127435-1793707200-1796824800@businessofdesign.com
SUMMARY:BOD™ 6-Week Financial Bootcamp
DESCRIPTION:BUSINESS OF DESIGN®\n6-WEEK FINANCIAL BOOTCAMP ✨\nYou’ve mastered design. Now it’s time to master the numbers. ✅ \n👉 This is your fast track to financial clarity\, confident leadership\, and real\, sustainable profit. We’re breaking down how you earn\, how you spend\, and most importantly\, how you keep more of what you earn. \nIt’s time to be the CEO your business needs. \nThis 6-week financial intensive program is for design professionals who want to level up. \nGET FULL DETAILS & REGISTER
URL:https://businessofdesign.com/event/6-week-financial-bootcamp/
CATEGORIES:Webinars
ATTACH;FMTTYPE=image/jpeg:https://businessofdesign.com/wp-content/uploads/2026/02/Financial-Bootcamp.jpg
END:VEVENT
END:VCALENDAR