BEGIN:VCALENDAR
VERSION:2.0
PRODID:-//Business of Design ® - ECPv6.15.18//NONSGML v1.0//EN
CALSCALE:GREGORIAN
METHOD:PUBLISH
X-WR-CALNAME:Business of Design ®
X-ORIGINAL-URL:https://businessofdesign.com
X-WR-CALDESC:Events for Business of Design ®
REFRESH-INTERVAL;VALUE=DURATION:PT1H
X-Robots-Tag:noindex
X-PUBLISHED-TTL:PT1H
BEGIN:VTIMEZONE
TZID:America/Toronto
BEGIN:DAYLIGHT
TZOFFSETFROM:-0500
TZOFFSETTO:-0400
TZNAME:EDT
DTSTART:20240310T070000
END:DAYLIGHT
BEGIN:STANDARD
TZOFFSETFROM:-0400
TZOFFSETTO:-0500
TZNAME:EST
DTSTART:20241103T060000
END:STANDARD
BEGIN:DAYLIGHT
TZOFFSETFROM:-0500
TZOFFSETTO:-0400
TZNAME:EDT
DTSTART:20250309T070000
END:DAYLIGHT
BEGIN:STANDARD
TZOFFSETFROM:-0400
TZOFFSETTO:-0500
TZNAME:EST
DTSTART:20251102T060000
END:STANDARD
BEGIN:DAYLIGHT
TZOFFSETFROM:-0500
TZOFFSETTO:-0400
TZNAME:EDT
DTSTART:20260308T070000
END:DAYLIGHT
BEGIN:STANDARD
TZOFFSETFROM:-0400
TZOFFSETTO:-0500
TZNAME:EST
DTSTART:20261101T060000
END:STANDARD
END:VTIMEZONE
BEGIN:VEVENT
DTSTART;TZID=America/Toronto:20251217T130000
DTEND;TZID=America/Toronto:20251217T140000
DTSTAMP:20260425T132154
CREATED:20250506T134504Z
LAST-MODIFIED:20251212T194451Z
UID:126977-1765976400-1765980000@businessofdesign.com
SUMMARY:BOD™ LIVE | Monthly Coaching
DESCRIPTION:As a BOD™ Member\, you have 24/7 access to learning\, now it’s time to implement for results.  \nIf you’re serious about transforming your business by implementing the systems and procedures you learn about through Business of Design® programs\, our monthly BOD™ Live coaching sessions will help keep you motivated\, accountable\, and in good company. Come prepared with your questions\, and be ready to offer experience\, expertise and support to your fellow members. \nJoin us each month to help fast track the process and address your most pressing questions. \nYou are not alone. BOD™ Live meetings are therapy for your business and your life! \n\n\nBecome a Member to participate. \n  \nFOR MEMBERS TO PARTICIPATE: \n\nMark your calendar.\nWatch your inbox for email reminders.\nSign into your Member Dashboard to join.\n\n  \nNot able to join us live?  \nMembers can submit a question in advance and it will be answered live on the call. \nBOD™ Live Coaching calls are recorded and available for a limited time. \nCheck your member dashboard for future coaching dates.
URL:https://businessofdesign.com/event/bod-live-monthly-coaching/
CATEGORIES:BOD Live Meetings
ATTACH;FMTTYPE=image/png:https://businessofdesign.com/wp-content/uploads/2022/01/BOD_Live_1.png
END:VEVENT
END:VCALENDAR